BEGIN:VCALENDAR
VERSION:2.0
PRODID:-//wp-events-plugin.com//6.4.6.4//EN
BEGIN:VEVENT
UID:131@lrsb.be
DTSTART:20241012T130000Z
DTEND:20241012T140000Z
DTSTAMP:20240906T191254Z
URL:https://lrsb.be/Events/15h-16h-640-meter-schieten-6/
SUMMARY:15h-16h - 640 meter schieten
DESCRIPTION:
ATTACH;FMTTYPE=image/jpeg:https://lrsb.be/wp-content/uploads/2023/12/640-m
 tr.webp
CATEGORIES:Elektronisch doel op 640 meter
END:VEVENT
END:VCALENDAR