BEGIN:VCALENDAR
VERSION:2.0
PRODID:-//wp-events-plugin.com//6.4.6.4//EN
BEGIN:VEVENT
UID:138@lrsb.be
DTSTART:20241116T090000Z
DTEND:20241116T100000Z
DTSTAMP:20240906T192038Z
URL:https://lrsb.be/Events/11h-12h-800-meter-schieten-8/
SUMMARY:11h-12h - 800 meter schieten
DESCRIPTION:
ATTACH;FMTTYPE=image/jpeg:https://lrsb.be/wp-content/uploads/2023/12/800-m
 eter.webp
CATEGORIES:Elektronisch doel op 800 meter
END:VEVENT
END:VCALENDAR